BEGIN:VCALENDAR
VERSION:2.0
PRODID:-//Hof Treptow Böhnhusen//NONSGML kigkonsult.se iCalcreator 2.41.92//
CALSCALE:GREGORIAN
METHOD:PUBLISH
UID:31626233-6666-4662-a161-343130336163
X-WR-CALNAME:iCagenda
X-WR-CALDESC:Event Management Extension for Joomla!
X-WR-RELCALID:3E26604A-50F4-4449-8B3E-E4F4932D05B5
X-WR-TIMEZONE:Europe/Berlin
BEGIN:VTIMEZONE
TZID:Europe/Berlin
TZUNTIL:20280326T010000Z
BEGIN:STANDARD
TZNAME:CET
DTSTART:20251026T030000
TZOFFSETFROM:+0200
TZOFFSETTO:+0100
RDATE:20261025T030000
RDATE:20271031T030000
END:STANDARD
BEGIN:DAYLIGHT
TZNAME:CEST
DTSTART:20260329T020000
TZOFFSETFROM:+0100
TZOFFSETTO:+0200
RDATE:20270328T020000
END:DAYLIGHT
END:VTIMEZONE
BEGIN:VEVENT
UID:39643630-3662-4663-b335-386331373565
DTSTAMP:20260424T110620Z
CATEGORIES:Hof Treptow
CLASS:PUBLIC
DESCRIPTION;ALTREP="CID:<FFFF__=0ABBE548DFE235B58f9e8a93d@coffeebean.com>":
 Saftige Schnitzel in Hülle &amp\; Fülle laufend frisch aus der großen Eise
 npfanne – leckere Spare Ribs in hausgemachter Marinade immer frisch und sa
 ftig aus dem Backofen\, leckere hausgemachte Saucen und ein üppiges Beilag
 enbuffet\nalles satt auf Anmeldung&nbsp\;€ 27.50 p. P.
DTSTART:20260516T153000Z
DTEND:20260516T153000Z
GEO:00;0
LOCATION:
ORGANIZER:
SEQUENCE:1
SUMMARY:Spare Ribs & Schnitzel
TRANSP:OPAQUE
URL:https://www.hof-treptow.de/157-spare-ribs-schnitzel-17/2026-05-16-17-30
END:VEVENT
END:VCALENDAR
